BEGIN:VCALENDAR
VERSION:2.0
PRODID:-//Schnyder Ranch - ECPv6.15.20//NONSGML v1.0//EN
CALSCALE:GREGORIAN
METHOD:PUBLISH
X-ORIGINAL-URL:https://schnyder-ranch.com
X-WR-CALDESC:Veranstaltungen für Schnyder Ranch
REFRESH-INTERVAL;VALUE=DURATION:PT1H
X-Robots-Tag:noindex
X-PUBLISHED-TTL:PT1H
BEGIN:VTIMEZONE
TZID:Europe/Berlin
BEGIN:DAYLIGHT
TZOFFSETFROM:+0100
TZOFFSETTO:+0200
TZNAME:CEST
DTSTART:20240331T010000
END:DAYLIGHT
BEGIN:STANDARD
TZOFFSETFROM:+0200
TZOFFSETTO:+0100
TZNAME:CET
DTSTART:20241027T010000
END:STANDARD
BEGIN:DAYLIGHT
TZOFFSETFROM:+0100
TZOFFSETTO:+0200
TZNAME:CEST
DTSTART:20250330T010000
END:DAYLIGHT
BEGIN:STANDARD
TZOFFSETFROM:+0200
TZOFFSETTO:+0100
TZNAME:CET
DTSTART:20251026T010000
END:STANDARD
BEGIN:DAYLIGHT
TZOFFSETFROM:+0100
TZOFFSETTO:+0200
TZNAME:CEST
DTSTART:20260329T010000
END:DAYLIGHT
BEGIN:STANDARD
TZOFFSETFROM:+0200
TZOFFSETTO:+0100
TZNAME:CET
DTSTART:20261025T010000
END:STANDARD
END:VTIMEZONE
BEGIN:VEVENT
DTSTART;VALUE=DATE:20250308
DTEND;VALUE=DATE:20250310
DTSTAMP:20260421T222424
CREATED:20241230T154437Z
LAST-MODIFIED:20241230T154437Z
UID:5089-1741392000-1741564799@schnyder-ranch.com
SUMMARY:Kurs mit Rikke Benjaminsen
DESCRIPTION:Boxen und Zimmer über die Schnyder Ranch buchbar (Ansprechpartnerin: Sindy Patzer\, Tel. 0173-7785996 oder per E-Mail)
URL:https://schnyder-ranch.com/veranstaltungen/kurs-mit-rikke-benjaminsen-2/
LOCATION:Schnyder Ranch\, Obermeckenhof 1\, Ravensburg\, 88213\, Germany
ATTACH;FMTTYPE=image/jpeg:https://schnyder-ranch.com/wp-content/uploads/2024/12/Rikke.jpg
ORGANIZER;CN="Alina Kahle":MAILTO:alinakahle@gmx.de
END:VEVENT
END:VCALENDAR